Package: RCAS Version: 1.28.3 Command: chmod a+r RCAS -R && F:\biocbuild\bbs-3.18-bioc\R\bin\R.exe CMD build --keep-empty-dirs --no-resave-data RCAS StartedAt: 2024-04-15 20:35:27 -0400 (Mon, 15 Apr 2024) EndedAt: 2024-04-15 20:38:45 -0400 (Mon, 15 Apr 2024) EllapsedTime: 197.7 seconds RetCode: 0 Status: OK PackageFile: RCAS_1.28.3.tar.gz PackageFileSize: 1.34 MiB