Package: RCAS Version: 1.28.3 Command: /Library/Frameworks/R.framework/Resources/bin/R CMD build --keep-empty-dirs --no-resave-data RCAS StartedAt: 2024-03-03 17:57:10 -0500 (Sun, 03 Mar 2024) EndedAt: 2024-03-03 18:00:00 -0500 (Sun, 03 Mar 2024) EllapsedTime: 169.2 seconds RetCode: 0 Status: OK PackageFile: RCAS_1.28.3.tar.gz PackageFileSize: 1.487 MiB