Package: RCAS Version: 1.28.3 Command: rm -rf RCAS.buildbin-libdir && mkdir RCAS.buildbin-libdir && /Users/biocbuild/BBS/utils/build-universal.sh RCAS_1.28.3.tar.gz /Library/Frameworks/R.framework/Resources/bin/R RCAS.buildbin-libdir StartedAt: 2024-03-04 00:58:32 -0500 (Mon, 04 Mar 2024) EndedAt: 2024-03-04 00:59:41 -0500 (Mon, 04 Mar 2024) EllapsedTime: 68.8 seconds RetCode: 0 Status: OK PackageFile: RCAS_1.28.3.tgz PackageFileSize: 2.003 MiB