Package: RBioinf Version: 1.62.0 Command: /Library/Frameworks/R.framework/Resources/bin/R CMD INSTALL RBioinf StartedAt: 2024-04-15 15:07:22 -0400 (Mon, 15 Apr 2024) EndedAt: 2024-04-15 15:07:33 -0400 (Mon, 15 Apr 2024) EllapsedTime: 11.0 seconds RetCode: 0 Status: OK