Package: RBioinf Version: 1.62.0 Command: rm -rf RBioinf.buildbin-libdir && mkdir RBioinf.buildbin-libdir && /Users/biocbuild/BBS/utils/build-universal.sh RBioinf_1.62.0.tar.gz /Library/Frameworks/R.framework/Resources/bin/R RBioinf.buildbin-libdir StartedAt: 2024-03-04 00:58:25 -0500 (Mon, 04 Mar 2024) EndedAt: 2024-03-04 00:58:38 -0500 (Mon, 04 Mar 2024) EllapsedTime: 12.4 seconds RetCode: 0 Status: OK PackageFile: RBioinf_1.62.0.tgz PackageFileSize: 3.594 MiB