Package: RBioFormats Version: 1.2.0 Command: /home/biocbuild/R/R-4.3.1/bin/R CMD INSTALL RBioFormats StartedAt: 2023-11-01 20:33:02 -0000 (Wed, 01 Nov 2023) EndedAt: 2023-11-01 20:33:14 -0000 (Wed, 01 Nov 2023) EllapsedTime: 11.7 seconds RetCode: 0 Status: OK