Package: RBM Version: 1.34.0 Command: /Library/Frameworks/R.framework/Resources/bin/R CMD INSTALL RBM StartedAt: 2024-04-15 15:09:35 -0400 (Mon, 15 Apr 2024) EndedAt: 2024-04-15 15:09:52 -0400 (Mon, 15 Apr 2024) EllapsedTime: 17.2 seconds RetCode: 0 Status: OK