Package: RBM Version: 1.34.0 Command: /Library/Frameworks/R.framework/Resources/bin/R CMD build --keep-empty-dirs --no-resave-data RBM StartedAt: 2024-04-15 21:08:43 -0400 (Mon, 15 Apr 2024) EndedAt: 2024-04-15 21:10:08 -0400 (Mon, 15 Apr 2024) EllapsedTime: 85.0 seconds RetCode: 0 Status: OK PackageFile: RBM_1.34.0.tar.gz PackageFileSize: 371.3 KiB