Package: RAREsim Version: 1.6.0 Command: /Library/Frameworks/R.framework/Resources/bin/R CMD INSTALL RAREsim StartedAt: 2024-04-15 16:02:48 -0400 (Mon, 15 Apr 2024) EndedAt: 2024-04-15 16:02:53 -0400 (Mon, 15 Apr 2024) EllapsedTime: 4.2 seconds RetCode: 0 Status: OK