Package: RAREsim Version: 1.6.0 Command: /Library/Frameworks/R.framework/Resources/bin/R CMD build --keep-empty-dirs --no-resave-data RAREsim StartedAt: 2024-04-15 21:07:45 -0400 (Mon, 15 Apr 2024) EndedAt: 2024-04-15 21:07:58 -0400 (Mon, 15 Apr 2024) EllapsedTime: 13.0 seconds RetCode: 0 Status: OK PackageFile: RAREsim_1.6.0.tar.gz PackageFileSize: 299.5 KiB