Package: RAREsim Version: 1.6.0 Command: rm -rf RAREsim.buildbin-libdir && mkdir RAREsim.buildbin-libdir && /Users/biocbuild/BBS/utils/build-universal.sh RAREsim_1.6.0.tar.gz /Library/Frameworks/R.framework/Resources/bin/R RAREsim.buildbin-libdir StartedAt: 2024-04-16 12:29:58 -0400 (Tue, 16 Apr 2024) EndedAt: 2024-04-16 12:30:03 -0400 (Tue, 16 Apr 2024) EllapsedTime: 4.4 seconds RetCode: 0 Status: OK PackageFile: RAREsim_1.6.0.tgz PackageFileSize: 317.5 KiB