Package: RAREsim Version: 1.6.0 Command: /Library/Frameworks/R.framework/Resources/bin/R CMD build --keep-empty-dirs --no-resave-data RAREsim StartedAt: 2024-03-03 17:56:08 -0500 (Sun, 03 Mar 2024) EndedAt: 2024-03-03 17:56:16 -0500 (Sun, 03 Mar 2024) EllapsedTime: 7.9 seconds RetCode: 0 Status: OK PackageFile: RAREsim_1.6.0.tar.gz PackageFileSize: 293.7 KiB