Package: R4RNA Version: 1.30.0 Command: rm -rf R4RNA.buildbin-libdir && mkdir R4RNA.buildbin-libdir && F:\biocbuild\bbs-3.18-bioc\R\bin\R.exe CMD INSTALL --build --library=R4RNA.buildbin-libdir R4RNA_1.30.0.tar.gz StartedAt: 2024-04-16 07:29:56 -0400 (Tue, 16 Apr 2024) EndedAt: 2024-04-16 07:30:13 -0400 (Tue, 16 Apr 2024) EllapsedTime: 17.1 seconds RetCode: 0 Status: OK PackageFile: R4RNA_1.30.0.zip PackageFileSize: 929.8 KiB