Package: R453Plus1Toolbox Version: 1.52.0 Command: chmod a+r R453Plus1Toolbox -R && F:\biocbuild\bbs-3.18-bioc\R\bin\R.exe CMD build --keep-empty-dirs --no-resave-data R453Plus1Toolbox StartedAt: 2024-04-15 20:30:54 -0400 (Mon, 15 Apr 2024) EndedAt: 2024-04-15 20:34:00 -0400 (Mon, 15 Apr 2024) EllapsedTime: 185.6 seconds RetCode: 0 Status: OK PackageFile: R453Plus1Toolbox_1.52.0.tar.gz PackageFileSize: 838.3 KiB