Package: R453Plus1Toolbox Version: 1.52.0 Command: /home/biocbuild/bbs-3.18-bioc/R/bin/R CMD INSTALL R453Plus1Toolbox StartedAt: 2024-04-15 15:31:15 -0400 (Mon, 15 Apr 2024) EndedAt: 2024-04-15 15:32:25 -0400 (Mon, 15 Apr 2024) EllapsedTime: 70.2 seconds RetCode: 0 Status: OK