Package: R453Plus1Toolbox Version: 1.52.0 Command: /Library/Frameworks/R.framework/Resources/bin/R CMD INSTALL R453Plus1Toolbox StartedAt: 2024-04-15 15:57:42 -0400 (Mon, 15 Apr 2024) EndedAt: 2024-04-15 16:00:14 -0400 (Mon, 15 Apr 2024) EllapsedTime: 152.0 seconds RetCode: 0 Status: OK