Package: R453Plus1Toolbox Version: 1.52.0 Command: /Library/Frameworks/R.framework/Resources/bin/R CMD check --install=check:R453Plus1Toolbox.install-out.txt --library=/Library/Frameworks/R.framework/Resources/library --no-vignettes --timings R453Plus1Toolbox_1.52.0.tar.gz StartedAt: 2024-04-16 07:25:41 -0400 (Tue, 16 Apr 2024) EndedAt: 2024-04-16 07:38:08 -0400 (Tue, 16 Apr 2024) EllapsedTime: 747.0 seconds RetCode: 0 Status: OK CheckDir: R453Plus1Toolbox.Rcheck Warnings: 0