Package: R453Plus1Toolbox Version: 1.52.0 Command: /Library/Frameworks/R.framework/Resources/bin/R CMD INSTALL R453Plus1Toolbox StartedAt: 2024-03-03 15:27:00 -0500 (Sun, 03 Mar 2024) EndedAt: 2024-03-03 15:28:41 -0500 (Sun, 03 Mar 2024) EllapsedTime: 101.2 seconds RetCode: 0 Status: OK