Package: QuaternaryProd Version: 1.36.0 Command: rm -rf QuaternaryProd.buildbin-libdir && mkdir QuaternaryProd.buildbin-libdir && F:\biocbuild\bbs-3.18-bioc\R\bin\R.exe CMD INSTALL --build --library=QuaternaryProd.buildbin-libdir QuaternaryProd_1.36.0.tar.gz StartedAt: 2024-04-16 07:29:42 -0400 (Tue, 16 Apr 2024) EndedAt: 2024-04-16 07:30:20 -0400 (Tue, 16 Apr 2024) EllapsedTime: 38.1 seconds RetCode: 0 Status: OK PackageFile: QuaternaryProd_1.36.0.zip PackageFileSize: 11.18 MiB