Package: QuaternaryProd Version: 1.36.0 Command: /Library/Frameworks/R.framework/Resources/bin/R CMD build --keep-empty-dirs --no-resave-data QuaternaryProd StartedAt: 2024-03-03 17:54:57 -0500 (Sun, 03 Mar 2024) EndedAt: 2024-03-03 18:01:09 -0500 (Sun, 03 Mar 2024) EllapsedTime: 371.3 seconds RetCode: 0 Status: OK PackageFile: QuaternaryProd_1.36.0.tar.gz PackageFileSize: 10.75 MiB