Package: QuasR Version: 1.42.1 Command: chmod a+r QuasR -R && F:\biocbuild\bbs-3.18-bioc\R\bin\R.exe CMD build --keep-empty-dirs --no-resave-data QuasR StartedAt: 2024-04-15 20:29:53 -0400 (Mon, 15 Apr 2024) EndedAt: 2024-04-15 20:35:05 -0400 (Mon, 15 Apr 2024) EllapsedTime: 312.3 seconds RetCode: 0 Status: OK PackageFile: QuasR_1.42.1.tar.gz PackageFileSize: 1.75 MiB