Package: QuasR Version: 1.42.1 Command: rm -rf QuasR.buildbin-libdir && mkdir QuasR.buildbin-libdir && F:\biocbuild\bbs-3.18-bioc\R\bin\R.exe CMD INSTALL --build --library=QuasR.buildbin-libdir QuasR_1.42.1.tar.gz StartedAt: 2024-04-16 07:29:40 -0400 (Tue, 16 Apr 2024) EndedAt: 2024-04-16 07:31:26 -0400 (Tue, 16 Apr 2024) EllapsedTime: 106.3 seconds RetCode: 0 Status: OK PackageFile: QuasR_1.42.1.zip PackageFileSize: 6.636 MiB