Package: QuasR Version: 1.42.1 Command: /Library/Frameworks/R.framework/Resources/bin/R CMD INSTALL QuasR StartedAt: 2024-04-15 15:49:38 -0400 (Mon, 15 Apr 2024) EndedAt: 2024-04-15 15:51:55 -0400 (Mon, 15 Apr 2024) EllapsedTime: 137.2 seconds RetCode: 0 Status: OK