Package: QuartPAC Version: 1.34.0 Command: /Library/Frameworks/R.framework/Resources/bin/R CMD build --keep-empty-dirs --no-resave-data QuartPAC StartedAt: 2024-04-15 21:05:02 -0400 (Mon, 15 Apr 2024) EndedAt: 2024-04-15 21:07:18 -0400 (Mon, 15 Apr 2024) EllapsedTime: 135.2 seconds RetCode: 0 Status: OK PackageFile: QuartPAC_1.34.0.tar.gz PackageFileSize: 907.7 KiB