Package: Qtlizer Version: 1.16.0 Command: rm -rf Qtlizer.buildbin-libdir && mkdir Qtlizer.buildbin-libdir && /Users/biocbuild/BBS/utils/build-universal.sh Qtlizer_1.16.0.tar.gz /Library/Frameworks/R.framework/Resources/bin/R Qtlizer.buildbin-libdir StartedAt: 2024-03-04 00:57:46 -0500 (Mon, 04 Mar 2024) EndedAt: 2024-03-04 00:57:50 -0500 (Mon, 04 Mar 2024) EllapsedTime: 4.6 seconds RetCode: 0 Status: OK PackageFile: Qtlizer_1.16.0.tgz PackageFileSize: 235.7 KiB