Package: QUBIC Version: 1.30.0 Command: F:\biocbuild\bbs-3.18-bioc\R\bin\R.exe CMD INSTALL QUBIC StartedAt: 2024-04-15 16:33:41 -0400 (Mon, 15 Apr 2024) EndedAt: 2024-04-15 16:34:26 -0400 (Mon, 15 Apr 2024) EllapsedTime: 45.3 seconds RetCode: 0 Status: OK