Package: QUBIC Version: 1.30.0 Command: chmod a+r QUBIC -R && F:\biocbuild\bbs-3.18-bioc\R\bin\R.exe CMD build --keep-empty-dirs --no-resave-data QUBIC StartedAt: 2024-04-15 20:30:01 -0400 (Mon, 15 Apr 2024) EndedAt: 2024-04-15 20:31:57 -0400 (Mon, 15 Apr 2024) EllapsedTime: 116.4 seconds RetCode: 0 Status: OK PackageFile: QUBIC_1.30.0.tar.gz PackageFileSize: 496.6 KiB