Package: QUBIC Version: 1.30.0 Command: rm -rf QUBIC.buildbin-libdir && mkdir QUBIC.buildbin-libdir && F:\biocbuild\bbs-3.18-bioc\R\bin\R.exe CMD INSTALL --build --library=QUBIC.buildbin-libdir QUBIC_1.30.0.tar.gz StartedAt: 2024-04-16 07:29:43 -0400 (Tue, 16 Apr 2024) EndedAt: 2024-04-16 07:30:32 -0400 (Tue, 16 Apr 2024) EllapsedTime: 48.5 seconds RetCode: 0 Status: OK PackageFile: QUBIC_1.30.0.zip PackageFileSize: 1.009 MiB