Package: QUBIC Version: 1.30.0 Command: rm -rf QUBIC.buildbin-libdir && mkdir QUBIC.buildbin-libdir && /Users/biocbuild/BBS/utils/build-universal.sh QUBIC_1.30.0.tar.gz /Library/Frameworks/R.framework/Resources/bin/R QUBIC.buildbin-libdir StartedAt: 2024-04-16 12:29:20 -0400 (Tue, 16 Apr 2024) EndedAt: 2024-04-16 12:30:28 -0400 (Tue, 16 Apr 2024) EllapsedTime: 68.5 seconds RetCode: 0 Status: OK PackageFile: QUBIC_1.30.0.tgz PackageFileSize: 629.7 KiB