Package: QUBIC Version: 1.30.0 Command: rm -rf QUBIC.buildbin-libdir && mkdir QUBIC.buildbin-libdir && /Users/biocbuild/BBS/utils/build-universal.sh QUBIC_1.30.0.tar.gz /Library/Frameworks/R.framework/Resources/bin/R QUBIC.buildbin-libdir StartedAt: 2024-03-04 00:57:55 -0500 (Mon, 04 Mar 2024) EndedAt: 2024-03-04 00:58:38 -0500 (Mon, 04 Mar 2024) EllapsedTime: 43.2 seconds RetCode: 0 Status: OK PackageFile: QUBIC_1.30.0.tgz PackageFileSize: 629.9 KiB