Package: QSutils Version: 1.20.0 Command: chmod a+r QSutils -R && F:\biocbuild\bbs-3.18-bioc\R\bin\R.exe CMD build --keep-empty-dirs --no-resave-data QSutils StartedAt: 2024-04-15 20:28:44 -0400 (Mon, 15 Apr 2024) EndedAt: 2024-04-15 20:30:48 -0400 (Mon, 15 Apr 2024) EllapsedTime: 124.0 seconds RetCode: 0 Status: OK PackageFile: QSutils_1.20.0.tar.gz PackageFileSize: 1.101 MiB