Package: QSutils Version: 1.20.0 Command: /home/biocbuild/bbs-3.18-bioc/R/bin/R CMD check --install=check:QSutils.install-out.txt --library=/home/biocbuild/bbs-3.18-bioc/R/site-library --timings QSutils_1.20.0.tar.gz StartedAt: 2024-04-16 02:37:36 -0400 (Tue, 16 Apr 2024) EndedAt: 2024-04-16 02:40:23 -0400 (Tue, 16 Apr 2024) EllapsedTime: 167.3 seconds RetCode: 0 Status: OK CheckDir: QSutils.Rcheck Warnings: 0