Package: QSutils Version: 1.20.0 Command: /Library/Frameworks/R.framework/Resources/bin/R CMD INSTALL QSutils StartedAt: 2024-03-03 15:15:37 -0500 (Sun, 03 Mar 2024) EndedAt: 2024-03-03 15:15:55 -0500 (Sun, 03 Mar 2024) EllapsedTime: 18.0 seconds RetCode: 0 Status: OK