Package: QSutils Version: 1.20.0 Command: /Library/Frameworks/R.framework/Resources/bin/R CMD build --keep-empty-dirs --no-resave-data QSutils StartedAt: 2024-03-03 17:54:21 -0500 (Sun, 03 Mar 2024) EndedAt: 2024-03-03 17:56:08 -0500 (Sun, 03 Mar 2024) EllapsedTime: 107.2 seconds RetCode: 0 Status: OK PackageFile: QSutils_1.20.0.tar.gz PackageFileSize: 1.313 MiB