Package: QSutils Version: 1.20.0 Command: rm -rf QSutils.buildbin-libdir && mkdir QSutils.buildbin-libdir && /Users/biocbuild/BBS/utils/build-universal.sh QSutils_1.20.0.tar.gz /Library/Frameworks/R.framework/Resources/bin/R QSutils.buildbin-libdir StartedAt: 2024-03-04 00:57:43 -0500 (Mon, 04 Mar 2024) EndedAt: 2024-03-04 00:58:02 -0500 (Mon, 04 Mar 2024) EllapsedTime: 19.3 seconds RetCode: 0 Status: OK PackageFile: QSutils_1.20.0.tgz PackageFileSize: 1.426 MiB