Package: QSutils Version: 1.20.0 Command: /home/biocbuild/R/R-4.3.1/bin/R CMD check --install=check:QSutils.install-out.txt --library=/home/biocbuild/R/R-4.3.1/site-library --no-vignettes --timings QSutils_1.20.0.tar.gz StartedAt: 2023-11-02 13:23:18 -0000 (Thu, 02 Nov 2023) EndedAt: 2023-11-02 13:24:52 -0000 (Thu, 02 Nov 2023) EllapsedTime: 94.1 seconds RetCode: 0 Status: OK CheckDir: QSutils.Rcheck Warnings: 0