Package: QDNAseq Version: 1.38.0 Command: rm -rf QDNAseq.buildbin-libdir && mkdir QDNAseq.buildbin-libdir && F:\biocbuild\bbs-3.18-bioc\R\bin\R.exe CMD INSTALL --build --library=QDNAseq.buildbin-libdir QDNAseq_1.38.0.tar.gz StartedAt: 2024-04-16 07:28:55 -0400 (Tue, 16 Apr 2024) EndedAt: 2024-04-16 07:29:29 -0400 (Tue, 16 Apr 2024) EllapsedTime: 33.9 seconds RetCode: 0 Status: OK PackageFile: QDNAseq_1.38.0.zip PackageFileSize: 1.408 MiB