Package: QDNAseq Version: 1.38.0 Command: /home/biocbuild/R/R-4.3.1/bin/R CMD INSTALL QDNAseq StartedAt: 2023-11-01 20:22:27 -0000 (Wed, 01 Nov 2023) EndedAt: 2023-11-01 20:22:53 -0000 (Wed, 01 Nov 2023) EllapsedTime: 25.5 seconds RetCode: 0 Status: OK