Package: Pviz Version: 1.36.0 Command: F:\biocbuild\bbs-3.18-bioc\R\bin\R.exe CMD check --no-multiarch --install=check:Pviz.install-out.txt --library=F:\biocbuild\bbs-3.18-bioc\R\library --no-vignettes --timings Pviz_1.36.0.tar.gz StartedAt: 2024-04-16 03:59:04 -0400 (Tue, 16 Apr 2024) EndedAt: 2024-04-16 04:04:41 -0400 (Tue, 16 Apr 2024) EllapsedTime: 337.1 seconds RetCode: 0 Status: WARNINGS CheckDir: Pviz.Rcheck Warnings: 1