Package: Pviz Version: 1.36.0 Command: rm -rf Pviz.buildbin-libdir && mkdir Pviz.buildbin-libdir && /Users/biocbuild/BBS/utils/build-universal.sh Pviz_1.36.0.tar.gz /Library/Frameworks/R.framework/Resources/bin/R Pviz.buildbin-libdir StartedAt: 2024-03-04 00:57:29 -0500 (Mon, 04 Mar 2024) EndedAt: 2024-03-04 00:59:17 -0500 (Mon, 04 Mar 2024) EllapsedTime: 108.6 seconds RetCode: 0 Status: OK PackageFile: Pviz_1.36.0.tgz PackageFileSize: 664.4 KiB