Package: PureCN Version: 2.8.1 Command: chmod a+r PureCN -R && F:\biocbuild\bbs-3.18-bioc\R\bin\R.exe CMD build --keep-empty-dirs --no-resave-data PureCN StartedAt: 2024-04-15 20:26:27 -0400 (Mon, 15 Apr 2024) EndedAt: 2024-04-15 20:31:16 -0400 (Mon, 15 Apr 2024) EllapsedTime: 289.3 seconds RetCode: 0 Status: OK PackageFile: PureCN_2.8.1.tar.gz PackageFileSize: 5.715 MiB