Package: PureCN Version: 2.8.1 Command: /Library/Frameworks/R.framework/Resources/bin/R CMD build --keep-empty-dirs --no-resave-data PureCN StartedAt: 2024-04-15 21:01:57 -0400 (Mon, 15 Apr 2024) EndedAt: 2024-04-15 21:11:59 -0400 (Mon, 15 Apr 2024) EllapsedTime: 602.2 seconds RetCode: 0 Status: OK PackageFile: PureCN_2.8.1.tar.gz PackageFileSize: 5.72 MiB