Package: ProteoMM Version: 1.20.0 Command: F:\biocbuild\bbs-3.18-bioc\R\bin\R.exe CMD check --no-multiarch --install=check:ProteoMM.install-out.txt --library=F:\biocbuild\bbs-3.18-bioc\R\library --no-vignettes --timings ProteoMM_1.20.0.tar.gz StartedAt: 2024-04-16 03:56:41 -0400 (Tue, 16 Apr 2024) EndedAt: 2024-04-16 03:58:49 -0400 (Tue, 16 Apr 2024) EllapsedTime: 127.7 seconds RetCode: 0 Status: OK CheckDir: ProteoMM.Rcheck Warnings: 0