Package: ProteoMM Version: 1.20.0 Command: chmod a+r ProteoMM -R && F:\biocbuild\bbs-3.18-bioc\R\bin\R.exe CMD build --keep-empty-dirs --no-resave-data ProteoMM StartedAt: 2024-04-15 20:25:40 -0400 (Mon, 15 Apr 2024) EndedAt: 2024-04-15 20:26:22 -0400 (Mon, 15 Apr 2024) EllapsedTime: 42.6 seconds RetCode: 0 Status: OK PackageFile: ProteoMM_1.20.0.tar.gz PackageFileSize: 212.9 KiB