Package: ProteoMM Version: 1.20.0 Command: /Library/Frameworks/R.framework/Resources/bin/R CMD build --keep-empty-dirs --no-resave-data ProteoMM StartedAt: 2024-04-15 21:00:59 -0400 (Mon, 15 Apr 2024) EndedAt: 2024-04-15 21:02:19 -0400 (Mon, 15 Apr 2024) EllapsedTime: 79.9 seconds RetCode: 0 Status: OK PackageFile: ProteoMM_1.20.0.tar.gz PackageFileSize: 516.6 KiB