Package: ProteoMM Version: 1.20.0 Command: rm -rf ProteoMM.buildbin-libdir && mkdir ProteoMM.buildbin-libdir && /Users/biocbuild/BBS/utils/build-universal.sh ProteoMM_1.20.0.tar.gz /Library/Frameworks/R.framework/Resources/bin/R ProteoMM.buildbin-libdir StartedAt: 2024-04-16 12:27:50 -0400 (Tue, 16 Apr 2024) EndedAt: 2024-04-16 12:28:03 -0400 (Tue, 16 Apr 2024) EllapsedTime: 13.0 seconds RetCode: 0 Status: OK PackageFile: ProteoMM_1.20.0.tgz PackageFileSize: 630.9 KiB