Package: ProteoMM Version: 1.20.0 Command: /home/biocbuild/R/R-4.3.1/bin/R CMD INSTALL ProteoMM StartedAt: 2023-11-01 20:25:35 -0000 (Wed, 01 Nov 2023) EndedAt: 2023-11-01 20:25:42 -0000 (Wed, 01 Nov 2023) EllapsedTime: 7.0 seconds RetCode: 0 Status: OK