Package: ProteoMM Version: 1.20.0 Command: /home/biocbuild/R/R-4.3.1/bin/R CMD build --keep-empty-dirs --no-resave-data ProteoMM StartedAt: 2023-11-02 04:43:52 -0000 (Thu, 02 Nov 2023) EndedAt: 2023-11-02 04:44:41 -0000 (Thu, 02 Nov 2023) EllapsedTime: 49.1 seconds RetCode: 0 Status: OK PackageFile: ProteoMM_1.20.0.tar.gz PackageFileSize: 438.1 KiB