Package: ProtGenerics Version: 1.34.0 Command: /home/biocbuild/R/R-4.3.1/bin/R CMD build --keep-empty-dirs --no-resave-data ProtGenerics StartedAt: 2023-11-02 04:44:24 -0000 (Thu, 02 Nov 2023) EndedAt: 2023-11-02 04:44:25 -0000 (Thu, 02 Nov 2023) EllapsedTime: 1.0 seconds RetCode: 0 Status: OK PackageFile: ProtGenerics_1.34.0.tar.gz PackageFileSize: 8.677 KiB