Package: PrInCE Version: 1.18.0 Command: /home/biocbuild/bbs-3.18-bioc/R/bin/R CMD build --keep-empty-dirs --no-resave-data PrInCE StartedAt: 2024-04-15 18:35:40 -0400 (Mon, 15 Apr 2024) EndedAt: 2024-04-15 18:37:33 -0400 (Mon, 15 Apr 2024) EllapsedTime: 113.5 seconds RetCode: 0 Status: OK PackageFile: PrInCE_1.18.0.tar.gz PackageFileSize: 1.817 MiB